BEGIN:VCALENDAR
VERSION:2.0
PRODID:-//Gamlitz Weinsommer - ECPv6.15.20//NONSGML v1.0//EN
CALSCALE:GREGORIAN
METHOD:PUBLISH
X-WR-CALNAME:Gamlitz Weinsommer
X-ORIGINAL-URL:https://gamlitz-weinsommer.at
X-WR-CALDESC:Veranstaltungen für Gamlitz Weinsommer
REFRESH-INTERVAL;VALUE=DURATION:PT1H
X-Robots-Tag:noindex
X-PUBLISHED-TTL:PT1H
BEGIN:VTIMEZONE
TZID:Europe/Vienna
BEGIN:DAYLIGHT
TZOFFSETFROM:+0100
TZOFFSETTO:+0200
TZNAME:CEST
DTSTART:20250330T010000
END:DAYLIGHT
BEGIN:STANDARD
TZOFFSETFROM:+0200
TZOFFSETTO:+0100
TZNAME:CET
DTSTART:20251026T010000
END:STANDARD
BEGIN:DAYLIGHT
TZOFFSETFROM:+0100
TZOFFSETTO:+0200
TZNAME:CEST
DTSTART:20260329T010000
END:DAYLIGHT
BEGIN:STANDARD
TZOFFSETFROM:+0200
TZOFFSETTO:+0100
TZNAME:CET
DTSTART:20261025T010000
END:STANDARD
BEGIN:DAYLIGHT
TZOFFSETFROM:+0100
TZOFFSETTO:+0200
TZNAME:CEST
DTSTART:20270328T010000
END:DAYLIGHT
BEGIN:STANDARD
TZOFFSETFROM:+0200
TZOFFSETTO:+0100
TZNAME:CET
DTSTART:20271031T010000
END:STANDARD
END:VTIMEZONE
BEGIN:VEVENT
DTSTART;VALUE=DATE:20260608
DTEND;VALUE=DATE:20260613
DTSTAMP:20260424T155635
CREATED:20260417T104601Z
LAST-MODIFIED:20260421T093406Z
UID:1211-1780876800-1781308799@gamlitz-weinsommer.at
SUMMARY:Weintouren
DESCRIPTION:Ticket für unsere Ortswein­verkostung mit Sommerfest				\n				\n				\n				\n					\n	\n\n		\n		\n		\n\n		\n\n\n		\n\n\n\n	Tickets\n\n		\n	\n	\n		Die unten stehende Nummer beinhaltet Tickets für diese Veranstaltung aus dem Warenkorb. Durch einen Klick auf "Tickets kaufen" können vorhandene Teilnehmerinformationen bearbeitet sowie die Ticketsanzahl verändert werden.	\n\n\n		\n\n	\n		\n				Ortsweinverkostung & Sommerfest	\n\n\n\n\n	Die Vielfalt der südsteirischen Ortsweine entdecken. Verkosten Sie mehr als hundert verschiedene Weine aus den Weinbauregionen.\nDieses Ticket beinhaltet die Verkostung sowie das Sommerfest am Samstag\, 13. Juni 2026 ab 15:00 Uhr.\n\n\n	\n		\n		\n					\n						30\,00\n						€\n					\n							\n\n\n	\n\n\n	Unbegrenzt\n	\n\n\n	\n\n\n	\n						\n	Verringern der Ticketanzahl für Ortsweinverkostung & Sommerfest\n	-\n				\n\n	\n		Anzahl	\n	\n\n					\n	Erhöhe die Ticketsanzahl für Ortsweinverkostung & Sommerfest\n	+\n			\n\n	\n		\n	\n\n\n		\n\n	\n	\n	\n		Anzahl	\n	0\n\n\n	\n	\n		Summe:	\n	\n		\n					\n						0\,00\n						€\n					\n					\n\n\n	Tickets kaufen
URL:https://gamlitz-weinsommer.at/event/weinsommer-gamlitz-touren/
LOCATION:Tourstart: LOISIUM Wine & Spa Hotel Südsteiermark\, Am Schlossberg 1a\, Ehrenhausen\, Steiermark\, 8461\, Austria
ORGANIZER;CN="Weinbauverein Gamlitz":MAILTO:info@weinausgamlitz.at
END:VEVENT
BEGIN:VEVENT
DTSTART;TZID=Europe/Vienna:20260613T150000
DTEND;TZID=Europe/Vienna:20260613T230000
DTSTAMP:20260424T155635
CREATED:20260420T083907Z
LAST-MODIFIED:20260420T161119Z
UID:1318-1781362800-1781391600@gamlitz-weinsommer.at
SUMMARY:Gamlitzer WEIN.SOMMER
DESCRIPTION:Ticket für unsere Ortswein­verkostung mit Sommerfest				\n				\n				\n				\n					\n	\n\n		\n		\n		\n\n		\n\n\n		\n\n\n\n	Tickets\n\n		\n	\n	\n		Die unten stehende Nummer beinhaltet Tickets für diese Veranstaltung aus dem Warenkorb. Durch einen Klick auf "Tickets kaufen" können vorhandene Teilnehmerinformationen bearbeitet sowie die Ticketsanzahl verändert werden.	\n\n\n		\n\n	\n		\n				Ortsweinverkostung & Sommerfest	\n\n\n\n\n	Die Vielfalt der südsteirischen Ortsweine entdecken. Verkosten Sie mehr als hundert verschiedene Weine aus den Weinbauregionen.\nDieses Ticket beinhaltet die Verkostung sowie das Sommerfest am Samstag\, 13. Juni 2026 ab 15:00 Uhr.\n\n\n	\n		\n		\n					\n						30\,00\n						€\n					\n							\n\n\n	\n\n\n	Unbegrenzt\n	\n\n\n	\n\n\n	\n					\n\n	\n		Anzahl	\n	\n\n			\n\n	\n		\n	\n\n\n		\n\n	\n	\n	\n		Anzahl	\n	0\n\n\n	\n	\n		Summe:	\n	\n		\n					\n						0\,00\n						€\n					\n					\n\n\n	Tickets kaufen
URL:https://gamlitz-weinsommer.at/event/weinsommer-gamlitz/
LOCATION:Peter & Paul Platz\, Kirchengasse 145\, Gamlitz\, Steiermark\, 8462\, Austria
ORGANIZER;CN="Weinbauverein Gamlitz":MAILTO:info@weinausgamlitz.at
END:VEVENT
END:VCALENDAR